BEGIN:VCALENDAR
VERSION:2.0
PRODID:concerti//https://www.concerti.de
CALSCALE:GREGORIAN
BEGIN:VTIMEZONE
TZID:Europe/Berlin
X-LIC-LOCATION:Europe/Berlin
BEGIN:DAYLIGHT
TZOFFSETFROM:+0100
TZOFFSETTO:+0200
TZNAME:CEST
DTSTART:19700329T020000
RRULE:FREQ=YEARLY;BYMONTH=3;BYDAY=-1SU
END:DAYLIGHT
BEGIN:STANDARD
TZOFFSETFROM:+0200
TZOFFSETTO:+0100
TZNAME:CET
DTSTART:19701025T030000
RRULE:FREQ=YEARLY;BYMONTH=10;BYDAY=-1SU
END:STANDARD
END:VTIMEZONE
BEGIN:VEVENT
UID:d45746729b6a60723932f6c27822f25f
SUMMARY:Vivaldi: Juditha Triumphans (konzertant)
URL:https://www.concerti.de/termine/vivaldi-juditha-triumphans-konzertant-theater-an-der-wien-889708/
DTSTART;TZID=Europe/Berlin:20261220T190000
DTEND;TZID=Europe/Berlin:20261220T210000
DESCRIPTION:Interpreten: Julia Lezhneva (Vagaus)\, Marianne Beate Lielland (Juditha)\, Sonja Runje (Holofernes)\, Erika Baikoff (Abra)\, Arnaud Gluck (Ozias)\, Arnold Schoenberg Chor\, Helsinki Baroque Orchestra\, Aapo Häkkinen (Leitung) \nhttps://www.concerti.de/termine/vivaldi-juditha-triumphans-konzertant-theater-an-der-wien-889708/
LOCATION:Theater an der Wien\, Linke Wienzeile 6\, 1060 Wien
END:VEVENT
END:VCALENDAR