BEGIN:VCALENDAR
VERSION:2.0
PRODID:concerti//https://www.concerti.de
CALSCALE:GREGORIAN
BEGIN:VTIMEZONE
TZID:Europe/Berlin
X-LIC-LOCATION:Europe/Berlin
BEGIN:DAYLIGHT
TZOFFSETFROM:+0100
TZOFFSETTO:+0200
TZNAME:CEST
DTSTART:19700329T020000
RRULE:FREQ=YEARLY;BYMONTH=3;BYDAY=-1SU
END:DAYLIGHT
BEGIN:STANDARD
TZOFFSETFROM:+0200
TZOFFSETTO:+0100
TZNAME:CET
DTSTART:19701025T030000
RRULE:FREQ=YEARLY;BYMONTH=10;BYDAY=-1SU
END:STANDARD
END:VTIMEZONE
BEGIN:VEVENT
UID:dc3b7fb862bae65094e68496950b305b
SUMMARY:Walter Seebacher (Klarinette), Leonardo Sesenna (Violoncello), Benjamin Kammerer (Klavier)
URL:https://www.concerti.de/termine/walter-seebacher-klarinette-leonardo-sesenna-violoncello-benjamin-kammerer-klavier-haus-der-musik-innsbruck-889677/
DTSTART;TZID=Europe/Berlin:20261127T193000
DTEND;TZID=Europe/Berlin:20261127T213000
DESCRIPTION:Interpreten: Walter Seebacher (Klarinette)\, Leonardo Sesenna (Violoncello)\, Benjamin Kammerer (Klavier) \nProgramm: Beethoven: Klaviertrio B-Dur op. 11 „Gassenhauer“\, Ravel: Klaviertrio a-Moll\, Messiaen: Quatuor pour la fin du temps \nhttps://www.concerti.de/termine/walter-seebacher-klarinette-leonardo-sesenna-violoncello-benjamin-kammerer-klavier-haus-der-musik-innsbruck-889677/
LOCATION:Haus der Musik Innsbruck\, Universitätsstraße 1\, 6020 Innsbruck
END:VEVENT
END:VCALENDAR