BEGIN:VCALENDAR
VERSION:2.0
PRODID:concerti//https://www.concerti.de
CALSCALE:GREGORIAN
BEGIN:VTIMEZONE
TZID:Europe/Berlin
X-LIC-LOCATION:Europe/Berlin
BEGIN:DAYLIGHT
TZOFFSETFROM:+0100
TZOFFSETTO:+0200
TZNAME:CEST
DTSTART:19700329T020000
RRULE:FREQ=YEARLY;BYMONTH=3;BYDAY=-1SU
END:DAYLIGHT
BEGIN:STANDARD
TZOFFSETFROM:+0200
TZOFFSETTO:+0100
TZNAME:CET
DTSTART:19701025T030000
RRULE:FREQ=YEARLY;BYMONTH=10;BYDAY=-1SU
END:STANDARD
END:VTIMEZONE
BEGIN:VEVENT
UID:2070af5506b82f35eb73596a1d63531e
SUMMARY:Thomas Ebenstein (Tenor), Joseph Lorenz (Rezitation) - Serenadenkonzerte Niederösterreich
URL:https://www.concerti.de/termine/thomas-ebenstein-tenor-joseph-lorenz-rezitation-889640/
DTSTART;TZID=Europe/Berlin:20261101T170000
DTEND;TZID=Europe/Berlin:20261101T190000
DESCRIPTION:Interpreten: Thomas Ebenstein (Tenor)\, Joseph Lorenz (Rezitation) \nProgramm: Werke von Krenek \nhttps://www.concerti.de/termine/thomas-ebenstein-tenor-joseph-lorenz-rezitation-889640/
LOCATION:Salon Krenek\, Krems an der Donau
END:VEVENT
END:VCALENDAR