BEGIN:VCALENDAR
VERSION:2.0
PRODID:concerti//https://www.concerti.de
CALSCALE:GREGORIAN
BEGIN:VTIMEZONE
TZID:Europe/Berlin
X-LIC-LOCATION:Europe/Berlin
BEGIN:DAYLIGHT
TZOFFSETFROM:+0100
TZOFFSETTO:+0200
TZNAME:CEST
DTSTART:19700329T020000
RRULE:FREQ=YEARLY;BYMONTH=3;BYDAY=-1SU
END:DAYLIGHT
BEGIN:STANDARD
TZOFFSETFROM:+0200
TZOFFSETTO:+0100
TZNAME:CET
DTSTART:19701025T030000
RRULE:FREQ=YEARLY;BYMONTH=10;BYDAY=-1SU
END:STANDARD
END:VTIMEZONE
BEGIN:VEVENT
UID:b3d7a894ae2616ca90674667a169bb7c
SUMMARY:Helena Bregar (Sopran), Kinga Ujszászi (Violine), André Lislevand (Viola da gamba), Anna-Liisa Elle (Kannel) - Trigonale – Festival der alten Musik
URL:https://www.concerti.de/termine/helena-bregar-sopran-kinga-ujszaszi-violine-andre-lislevand-viola-da-gamba-anna-liisa-elle-kannel-889628/
DTSTART;TZID=Europe/Berlin:20261025T180000
DTEND;TZID=Europe/Berlin:20261025T200000
DESCRIPTION:Interpreten: Helena Bregar (Sopran)\, Kinga Ujszászi (Violine)\, André Lislevand (Viola da gamba)\, Anna-Liisa Elle (Kannel) \nProgramm: Werke von Mozart \nhttps://www.concerti.de/termine/helena-bregar-sopran-kinga-ujszaszi-violine-andre-lislevand-viola-da-gamba-anna-liisa-elle-kannel-889628/
LOCATION:Rathaus St. Veith/Glan\, St. Veith/Glan
END:VEVENT
END:VCALENDAR