BEGIN:VCALENDAR
VERSION:2.0
PRODID:concerti//https://www.concerti.de
CALSCALE:GREGORIAN
BEGIN:VTIMEZONE
TZID:Europe/Berlin
X-LIC-LOCATION:Europe/Berlin
BEGIN:DAYLIGHT
TZOFFSETFROM:+0100
TZOFFSETTO:+0200
TZNAME:CEST
DTSTART:19700329T020000
RRULE:FREQ=YEARLY;BYMONTH=3;BYDAY=-1SU
END:DAYLIGHT
BEGIN:STANDARD
TZOFFSETFROM:+0200
TZOFFSETTO:+0100
TZNAME:CET
DTSTART:19701025T030000
RRULE:FREQ=YEARLY;BYMONTH=10;BYDAY=-1SU
END:STANDARD
END:VTIMEZONE
BEGIN:VEVENT
UID:44dafd934fce079646dcdf8be66d62f9
SUMMARY:Tabea Mitterbauer (Sopran), Florian Birsak (Klavier) - Trigonale – Festival der alten Musik
URL:https://www.concerti.de/termine/tabea-mitterbauer-sopran-florian-birsak-klavier-889619/
DTSTART;TZID=Europe/Berlin:20261024T190000
DTEND;TZID=Europe/Berlin:20261024T210000
DESCRIPTION:Interpreten: Tabea Mitterbauer (Sopran)\, Florian Birsak (Klavier) \nProgramm: Werke von Schubert\, Mendelssohn & Zelter \nhttps://www.concerti.de/termine/tabea-mitterbauer-sopran-florian-birsak-klavier-889619/
LOCATION:Musik.Werkstatt.Portendorf\, Portendorf
END:VEVENT
END:VCALENDAR