BEGIN:VCALENDAR
VERSION:2.0
PRODID:concerti//https://www.concerti.de
CALSCALE:GREGORIAN
BEGIN:VTIMEZONE
TZID:Europe/Berlin
X-LIC-LOCATION:Europe/Berlin
BEGIN:DAYLIGHT
TZOFFSETFROM:+0100
TZOFFSETTO:+0200
TZNAME:CEST
DTSTART:19700329T020000
RRULE:FREQ=YEARLY;BYMONTH=3;BYDAY=-1SU
END:DAYLIGHT
BEGIN:STANDARD
TZOFFSETFROM:+0200
TZOFFSETTO:+0100
TZNAME:CET
DTSTART:19701025T030000
RRULE:FREQ=YEARLY;BYMONTH=10;BYDAY=-1SU
END:STANDARD
END:VTIMEZONE
BEGIN:VEVENT
UID:54dc91685783e6a2c4181bfb8209a93e
SUMMARY:Verdi: Un ballo in maschera
URL:https://www.concerti.de/termine/verdi-un-ballo-in-maschera-tiroler-landestheater-889501/
DTSTART;TZID=Europe/Berlin:20261022T193000
DTEND;TZID=Europe/Berlin:20261022T213000
DESCRIPTION:Interpreten: Stephan Zilias (Leitung)\, Jasmina Hadžiahmetović (Regie) \nhttps://www.concerti.de/termine/verdi-un-ballo-in-maschera-tiroler-landestheater-889501/
LOCATION:Tiroler Landestheater\, Rennweg 2\, 6020 Innsbruck
END:VEVENT
END:VCALENDAR