BEGIN:VCALENDAR
VERSION:2.0
PRODID:concerti//https://www.concerti.de
CALSCALE:GREGORIAN
BEGIN:VTIMEZONE
TZID:Europe/Berlin
X-LIC-LOCATION:Europe/Berlin
BEGIN:DAYLIGHT
TZOFFSETFROM:+0100
TZOFFSETTO:+0200
TZNAME:CEST
DTSTART:19700329T020000
RRULE:FREQ=YEARLY;BYMONTH=3;BYDAY=-1SU
END:DAYLIGHT
BEGIN:STANDARD
TZOFFSETFROM:+0200
TZOFFSETTO:+0100
TZNAME:CET
DTSTART:19701025T030000
RRULE:FREQ=YEARLY;BYMONTH=10;BYDAY=-1SU
END:STANDARD
END:VTIMEZONE
BEGIN:VEVENT
UID:bccaaa52ba3db41a8b9cb57590b54d9a
SUMMARY:Vogler: Klangstreich – Eine Note tanzt aus der Reihe
URL:https://www.concerti.de/termine/vogler-klangstreich-eine-note-tanzt-aus-der-reihe-theater-an-der-wien-889557/
DTSTART;TZID=Europe/Berlin:20261011T110000
DTEND;TZID=Europe/Berlin:20261011T130000
DESCRIPTION:Interpreten: Ivo Kovrigar (Finn)\, Anita Rosati (Sängerin\, Ameise & Note)\, Ella Feldmeier (Taube & Note)\, Anisha Bondy (Regie) \nhttps://www.concerti.de/termine/vogler-klangstreich-eine-note-tanzt-aus-der-reihe-theater-an-der-wien-889557/
LOCATION:Theater an der Wien\, Linke Wienzeile 6\, 1060 Wien
END:VEVENT
END:VCALENDAR