BEGIN:VCALENDAR
VERSION:2.0
PRODID:concerti//https://www.concerti.de
CALSCALE:GREGORIAN
BEGIN:VTIMEZONE
TZID:Europe/Berlin
X-LIC-LOCATION:Europe/Berlin
BEGIN:DAYLIGHT
TZOFFSETFROM:+0100
TZOFFSETTO:+0200
TZNAME:CEST
DTSTART:19700329T020000
RRULE:FREQ=YEARLY;BYMONTH=3;BYDAY=-1SU
END:DAYLIGHT
BEGIN:STANDARD
TZOFFSETFROM:+0200
TZOFFSETTO:+0100
TZNAME:CET
DTSTART:19701025T030000
RRULE:FREQ=YEARLY;BYMONTH=10;BYDAY=-1SU
END:STANDARD
END:VTIMEZONE
BEGIN:VEVENT
UID:8b85c51554f40b98b7471ba1625682c9
SUMMARY:Poetryslam meets Orchestra
URL:https://www.concerti.de/termine/poetryslam-meets-orchestra-haus-der-musik-innsbruck-889548/
DTSTART;TZID=Europe/Berlin:20261009T190000
DTEND;TZID=Europe/Berlin:20261009T210000
DESCRIPTION:Interpreten: Tiroler Symphonieorchester Innsbruck\, Poetryslammer & Poetryslammerinnen\, Markus Köhle (Moderation) \nhttps://www.concerti.de/termine/poetryslam-meets-orchestra-haus-der-musik-innsbruck-889548/
LOCATION:Haus der Musik Innsbruck\, Universitätsstraße 1\, 6020 Innsbruck
END:VEVENT
END:VCALENDAR