BEGIN:VCALENDAR
VERSION:2.0
PRODID:concerti//https://www.concerti.de
CALSCALE:GREGORIAN
BEGIN:VTIMEZONE
TZID:Europe/Berlin
X-LIC-LOCATION:Europe/Berlin
BEGIN:DAYLIGHT
TZOFFSETFROM:+0100
TZOFFSETTO:+0200
TZNAME:CEST
DTSTART:19700329T020000
RRULE:FREQ=YEARLY;BYMONTH=3;BYDAY=-1SU
END:DAYLIGHT
BEGIN:STANDARD
TZOFFSETFROM:+0200
TZOFFSETTO:+0100
TZNAME:CET
DTSTART:19701025T030000
RRULE:FREQ=YEARLY;BYMONTH=10;BYDAY=-1SU
END:STANDARD
END:VTIMEZONE
BEGIN:VEVENT
UID:d46e1c9510833a84991843ec281d92dd
SUMMARY:Ali: Codeborn
URL:https://www.concerti.de/termine/ali-codeborn-haus-der-musik-innsbruck-889483/
DTSTART;TZID=Europe/Berlin:20261004T193000
DTEND;TZID=Europe/Berlin:20261004T213000
DESCRIPTION:Interpreten: Hansjörg Sofka (Leitung)\, Florentine Klepper (Regie) \nhttps://www.concerti.de/termine/ali-codeborn-haus-der-musik-innsbruck-889483/
LOCATION:Haus der Musik Innsbruck\, Universitätsstraße 1\, 6020 Innsbruck
END:VEVENT
END:VCALENDAR