BEGIN:VCALENDAR
VERSION:2.0
PRODID:concerti//https://www.concerti.de
CALSCALE:GREGORIAN
BEGIN:VTIMEZONE
TZID:Europe/Berlin
X-LIC-LOCATION:Europe/Berlin
BEGIN:DAYLIGHT
TZOFFSETFROM:+0100
TZOFFSETTO:+0200
TZNAME:CEST
DTSTART:19700329T020000
RRULE:FREQ=YEARLY;BYMONTH=3;BYDAY=-1SU
END:DAYLIGHT
BEGIN:STANDARD
TZOFFSETFROM:+0200
TZOFFSETTO:+0100
TZNAME:CET
DTSTART:19701025T030000
RRULE:FREQ=YEARLY;BYMONTH=10;BYDAY=-1SU
END:STANDARD
END:VTIMEZONE
BEGIN:VEVENT
UID:2615548abf3e4969869dfdc66357442b
SUMMARY:Clemens Unterreiner (Bariton), Andreas Fröschl (Klavier) - Serenadenkonzerte Niederösterreich
URL:https://www.concerti.de/termine/clemens-unterreiner-bariton-andreas-froeschl-klavier-889532/
DTSTART;TZID=Europe/Berlin:20261004T170000
DTEND;TZID=Europe/Berlin:20261004T190000
DESCRIPTION:Interpreten: Clemens Unterreiner (Bariton)\, Andreas Fröschl (Klavier) \nProgramm: Werke von Randhartinger\, Spohr\, Schubert u. a. \nhttps://www.concerti.de/termine/clemens-unterreiner-bariton-andreas-froeschl-klavier-889532/
LOCATION:Festsaal Ruprechtshofen\, Ruprechtshofen
END:VEVENT
END:VCALENDAR