BEGIN:VCALENDAR
VERSION:2.0
PRODID:concerti//https://www.concerti.de
CALSCALE:GREGORIAN
BEGIN:VTIMEZONE
TZID:Europe/Berlin
X-LIC-LOCATION:Europe/Berlin
BEGIN:DAYLIGHT
TZOFFSETFROM:+0100
TZOFFSETTO:+0200
TZNAME:CEST
DTSTART:19700329T020000
RRULE:FREQ=YEARLY;BYMONTH=3;BYDAY=-1SU
END:DAYLIGHT
BEGIN:STANDARD
TZOFFSETFROM:+0200
TZOFFSETTO:+0100
TZNAME:CET
DTSTART:19701025T030000
RRULE:FREQ=YEARLY;BYMONTH=10;BYDAY=-1SU
END:STANDARD
END:VTIMEZONE
BEGIN:VEVENT
UID:1482291ade2eda45e4276cbc452d5d30
SUMMARY:Alla Napoletana
URL:https://www.concerti.de/termine/alla-napoletana-theater-an-der-wien-889510/
DTSTART;TZID=Europe/Berlin:20260927T190000
DTEND;TZID=Europe/Berlin:20260927T210000
DESCRIPTION:Interpreten: Céline Scheen (Sopran)\, Benedetta Mazzucato (Mezzosopran)\, Luciana Mancini (Mezzosopran)\, Vincenzo Capezzuto (Alt)\, Alessandro Giangrande (Tenor)\, João Fernandes (Bass)\, Anna Dego (Teatrodanza)\, L’Arpeggiata\, Christina Pluhar (Leitung) \nProgramm: Werke von Falconiero\,  Caresana\, Giramo & Rossi \nhttps://www.concerti.de/termine/alla-napoletana-theater-an-der-wien-889510/
LOCATION:Theater an der Wien\, Linke Wienzeile 6\, 1060 Wien
END:VEVENT
END:VCALENDAR