BEGIN:VCALENDAR
VERSION:2.0
PRODID:concerti//https://www.concerti.de
CALSCALE:GREGORIAN
BEGIN:VTIMEZONE
TZID:Europe/Berlin
X-LIC-LOCATION:Europe/Berlin
BEGIN:DAYLIGHT
TZOFFSETFROM:+0100
TZOFFSETTO:+0200
TZNAME:CEST
DTSTART:19700329T020000
RRULE:FREQ=YEARLY;BYMONTH=3;BYDAY=-1SU
END:DAYLIGHT
BEGIN:STANDARD
TZOFFSETFROM:+0200
TZOFFSETTO:+0100
TZNAME:CET
DTSTART:19701025T030000
RRULE:FREQ=YEARLY;BYMONTH=10;BYDAY=-1SU
END:STANDARD
END:VTIMEZONE
BEGIN:VEVENT
UID:0a49934fb1ef73c6d74591d40a7f8b68
SUMMARY:Cavalli: La Calisto
URL:https://www.concerti.de/termine/cavalli-la-calisto-theater-an-der-wien-889476/
DTSTART;TZID=Europe/Berlin:20260916T190000
DTEND;TZID=Europe/Berlin:20260916T210000
DESCRIPTION:Interpreten: Vera-Lotte Boecker (Caslisto)\, Milan Siljanov (Giove)\, Luciana Mancini (Diana)\, Arnaud Gluck (Endimione)\, Giuseppina Bridelli (Giunone)\, Marcel Beekman (Linfea)\, Renato Dolcini (Mercurio)\, Jake Arditti (Satirino)\, Christina Pluhar (Leitung)\, Stefan Herheim (Leitung) \nhttps://www.concerti.de/termine/cavalli-la-calisto-theater-an-der-wien-889476/
LOCATION:Theater an der Wien\, Linke Wienzeile 6\, 1060 Wien
END:VEVENT
END:VCALENDAR