BEGIN:VCALENDAR
VERSION:2.0
PRODID:concerti//https://www.concerti.de
CALSCALE:GREGORIAN
BEGIN:VTIMEZONE
TZID:Europe/Berlin
X-LIC-LOCATION:Europe/Berlin
BEGIN:DAYLIGHT
TZOFFSETFROM:+0100
TZOFFSETTO:+0200
TZNAME:CEST
DTSTART:19700329T020000
RRULE:FREQ=YEARLY;BYMONTH=3;BYDAY=-1SU
END:DAYLIGHT
BEGIN:STANDARD
TZOFFSETFROM:+0200
TZOFFSETTO:+0100
TZNAME:CET
DTSTART:19701025T030000
RRULE:FREQ=YEARLY;BYMONTH=10;BYDAY=-1SU
END:STANDARD
END:VTIMEZONE
BEGIN:VEVENT
UID:b29a9f3b16500b69062ef4cd75af584b
SUMMARY:Valer Sabadus (Countertenor), Akemi Murakami (Klavier) - Serenadenkonzerte Niederösterreich
URL:https://www.concerti.de/termine/valer-sabadus-countertenor-akemi-murakami-klavier-889452/
DTSTART;TZID=Europe/Berlin:20260906T160000
DTEND;TZID=Europe/Berlin:20260906T180000
DESCRIPTION:Interpreten: Valer Sabadus (Countertenor)\, Akemi Murakami (Klavier) \nProgramm: Werke von Schubert\, Mozart\, Schumann\, Fauré\, Berlioz u. a. \nhttps://www.concerti.de/termine/valer-sabadus-countertenor-akemi-murakami-klavier-889452/
LOCATION:Schloss Atzenbrugg\, Atzenbrugg
END:VEVENT
END:VCALENDAR