BEGIN:VCALENDAR
VERSION:2.0
PRODID:concerti//https://www.concerti.de
CALSCALE:GREGORIAN
BEGIN:VTIMEZONE
TZID:Europe/Berlin
X-LIC-LOCATION:Europe/Berlin
BEGIN:DAYLIGHT
TZOFFSETFROM:+0100
TZOFFSETTO:+0200
TZNAME:CEST
DTSTART:19700329T020000
RRULE:FREQ=YEARLY;BYMONTH=3;BYDAY=-1SU
END:DAYLIGHT
BEGIN:STANDARD
TZOFFSETFROM:+0200
TZOFFSETTO:+0100
TZNAME:CET
DTSTART:19701025T030000
RRULE:FREQ=YEARLY;BYMONTH=10;BYDAY=-1SU
END:STANDARD
END:VTIMEZONE
BEGIN:VEVENT
UID:1ae69b340a65d56f15c8644fd81afaaa
SUMMARY:London Is the Place to Be - Trigonale – Festival der alten Musik
URL:https://www.concerti.de/termine/london-is-the-place-to-be-889447/
DTSTART;TZID=Europe/Berlin:20260904T190000
DTEND;TZID=Europe/Berlin:20260904T210000
DESCRIPTION:Interpreten: Anna Dennis (Sopran)\, Emma Black (Oboe)\, Alison Luthmers (Violine)\, Judith Steenbrink (Violine)\, Danka Nikolic (Viola)\, Majella Münz (Violoncello)\, Elisa La Marca (Theorbe)\, Christine Sticher (Violone)\, Johanna Soller (Cembalo & Orgel) \nProgramm: Werke von Händel\, Geminiani\, Clementi\, Boyce & Avison \nhttps://www.concerti.de/termine/london-is-the-place-to-be-889447/
LOCATION:Rathaus St. Veith/Glan\, St. Veith/Glan
END:VEVENT
END:VCALENDAR