BEGIN:VCALENDAR
VERSION:2.0
PRODID:concerti//https://www.concerti.de
CALSCALE:GREGORIAN
BEGIN:VTIMEZONE
TZID:Europe/Berlin
X-LIC-LOCATION:Europe/Berlin
BEGIN:DAYLIGHT
TZOFFSETFROM:+0100
TZOFFSETTO:+0200
TZNAME:CEST
DTSTART:19700329T020000
RRULE:FREQ=YEARLY;BYMONTH=3;BYDAY=-1SU
END:DAYLIGHT
BEGIN:STANDARD
TZOFFSETFROM:+0200
TZOFFSETTO:+0100
TZNAME:CET
DTSTART:19701025T030000
RRULE:FREQ=YEARLY;BYMONTH=10;BYDAY=-1SU
END:STANDARD
END:VTIMEZONE
BEGIN:VEVENT
UID:703bc1c72cd9afb31b5cb431217a23d7
SUMMARY:O splendidissima gemma - Trigonale – Festival der alten Musik
URL:https://www.concerti.de/termine/o-splendidissima-gemma-889402/
DTSTART;TZID=Europe/Berlin:20260516T190000
DTEND;TZID=Europe/Berlin:20260516T210000
DESCRIPTION:Interpreten: Psallentes\, Hendrik Vanden Abeele (Leitung) \nProgramm: Werke von Bingen \nhttps://www.concerti.de/termine/o-splendidissima-gemma-889402/
LOCATION:Stiftskirche St. Georgen\, St. Georgen/Längsee
END:VEVENT
END:VCALENDAR