BEGIN:VCALENDAR
VERSION:2.0
PRODID:concerti//https://www.concerti.de
CALSCALE:GREGORIAN
BEGIN:VTIMEZONE
TZID:Europe/Berlin
X-LIC-LOCATION:Europe/Berlin
BEGIN:DAYLIGHT
TZOFFSETFROM:+0100
TZOFFSETTO:+0200
TZNAME:CEST
DTSTART:19700329T020000
RRULE:FREQ=YEARLY;BYMONTH=3;BYDAY=-1SU
END:DAYLIGHT
BEGIN:STANDARD
TZOFFSETFROM:+0200
TZOFFSETTO:+0100
TZNAME:CET
DTSTART:19701025T030000
RRULE:FREQ=YEARLY;BYMONTH=10;BYDAY=-1SU
END:STANDARD
END:VTIMEZONE
BEGIN:VEVENT
UID:2458ee2da9ac2cecaecbf2612bd92b11
SUMMARY:La foresta incantata - Trigonale – Festival der alten Musik
URL:https://www.concerti.de/termine/la-foresta-incantata-889395/
DTSTART;TZID=Europe/Berlin:20260503T110000
DTEND;TZID=Europe/Berlin:20260503T130000
DESCRIPTION:Interpreten: Helena Bregar (Sopran)\, Léna Ruisz (Violine)\, Tabea Höfer (Violine)\, Francesca Camagni (Viola)\, Peter Trefflinger (Violoncello)\, Eva Euwe (Violone)\, Elias Conrad (Theorbe)\, Natalia Olczak (Cembalo) \nProgramm: Werke von Vivaldi\, Scarlatti\, d\'India\, Händel\, Cavalli\, Geminiani\, Purcell\, & Lambert \nhttps://www.concerti.de/termine/la-foresta-incantata-889395/
LOCATION:Musik.Werkstatt.Portendorf\, Portendorf
END:VEVENT
END:VCALENDAR