BEGIN:VCALENDAR
VERSION:2.0
PRODID:concerti//https://www.concerti.de
CALSCALE:GREGORIAN
BEGIN:VTIMEZONE
TZID:Europe/Berlin
X-LIC-LOCATION:Europe/Berlin
BEGIN:DAYLIGHT
TZOFFSETFROM:+0100
TZOFFSETTO:+0200
TZNAME:CEST
DTSTART:19700329T020000
RRULE:FREQ=YEARLY;BYMONTH=3;BYDAY=-1SU
END:DAYLIGHT
BEGIN:STANDARD
TZOFFSETFROM:+0200
TZOFFSETTO:+0100
TZNAME:CET
DTSTART:19701025T030000
RRULE:FREQ=YEARLY;BYMONTH=10;BYDAY=-1SU
END:STANDARD
END:VTIMEZONE
BEGIN:VEVENT
UID:3112f6a973f6ea7b1c146cca52277ce8
SUMMARY:Mitglieder der Academy of St Martin in the Fields - Rheingau Musik Festival
URL:https://www.concerti.de/termine/mitglieder-der-academy-of-st-martin-in-the-fields-schloss-johannisberg-889371/
DTSTART;TZID=Europe/Berlin:20270725T190000
DTEND;TZID=Europe/Berlin:20270725T210000
DESCRIPTION:Interpreten: Mitglieder der Academy of St Martin in the Fields \nProgramm: Purcell/Britten: Chaconne g-Moll\, Brahms: Streichsextett B-Dur op. 18\, Mendelssohn: Streichoktett Es-Dur op. 20 \nhttps://www.concerti.de/termine/mitglieder-der-academy-of-st-martin-in-the-fields-schloss-johannisberg-889371/
LOCATION:Schloss Johannisberg\, \, 65366 Geisenheim-Johannisberg
END:VEVENT
END:VCALENDAR