BEGIN:VCALENDAR
VERSION:2.0
PRODID:concerti//https://www.concerti.de
CALSCALE:GREGORIAN
BEGIN:VTIMEZONE
TZID:Europe/Berlin
X-LIC-LOCATION:Europe/Berlin
BEGIN:DAYLIGHT
TZOFFSETFROM:+0100
TZOFFSETTO:+0200
TZNAME:CEST
DTSTART:19700329T020000
RRULE:FREQ=YEARLY;BYMONTH=3;BYDAY=-1SU
END:DAYLIGHT
BEGIN:STANDARD
TZOFFSETFROM:+0200
TZOFFSETTO:+0100
TZNAME:CET
DTSTART:19701025T030000
RRULE:FREQ=YEARLY;BYMONTH=10;BYDAY=-1SU
END:STANDARD
END:VTIMEZONE
BEGIN:VEVENT
UID:0e7212fce022cc46268bf9479d4e9f6e
SUMMARY:Avi Avital (Mandoline), Kammerorchester Basel, Hugo Ticciati (Violine &amp; Leitung) - Rheingau Musik Festival
URL:https://www.concerti.de/termine/avi-avital-mandoline-kammerorchester-basel-hugo-ticciati-violine-leitung-889368/
DTSTART;TZID=Europe/Berlin:20270725T190000
DTEND;TZID=Europe/Berlin:20270725T210000
DESCRIPTION:Interpreten: Avi Avital (Mandoline)\, Kammerorchester Basel\, Hugo Ticciati (Violine & Leitung) \nProgramm: Werke von Ravel\, Haydn\, Dukas\, Saint-Saëns\, Piaf & Legrand \nhttps://www.concerti.de/termine/avi-avital-mandoline-kammerorchester-basel-hugo-ticciati-violine-leitung-889368/
LOCATION:Kloster Eberbach\, Eltville
END:VEVENT
END:VCALENDAR