BEGIN:VCALENDAR
VERSION:2.0
PRODID:concerti//https://www.concerti.de
CALSCALE:GREGORIAN
BEGIN:VTIMEZONE
TZID:Europe/Berlin
X-LIC-LOCATION:Europe/Berlin
BEGIN:DAYLIGHT
TZOFFSETFROM:+0100
TZOFFSETTO:+0200
TZNAME:CEST
DTSTART:19700329T020000
RRULE:FREQ=YEARLY;BYMONTH=3;BYDAY=-1SU
END:DAYLIGHT
BEGIN:STANDARD
TZOFFSETFROM:+0200
TZOFFSETTO:+0100
TZNAME:CET
DTSTART:19701025T030000
RRULE:FREQ=YEARLY;BYMONTH=10;BYDAY=-1SU
END:STANDARD
END:VTIMEZONE
BEGIN:VEVENT
UID:976ce1fb55ba26499b53e965c99a700b
SUMMARY:Martin Stadtfeld (Klavier), Frankfurter Opern- und Museumsorchester, Alexander Soddy (Leitung)
URL:https://www.concerti.de/termine/martin-stadtfeld-klavier-frankfurter-opern-und-museumsorchester-alexander-soddy-leitung-alte-oper-frankfurt-889337/
DTSTART;TZID=Europe/Berlin:20260921T193000
DTEND;TZID=Europe/Berlin:20260921T213000
DESCRIPTION:Interpreten: Martin Stadtfeld (Klavier)\, Frankfurter Opern- und Museumsorchester\, Alexander Soddy (Leitung) \nProgramm: Howell: Lamia\, Grieg: Klavierkonzert a-Moll op. 16\, Elgar: Sinfonie Nr. 1 As-Dur op. 55 \nhttps://www.concerti.de/termine/martin-stadtfeld-klavier-frankfurter-opern-und-museumsorchester-alexander-soddy-leitung-alte-oper-frankfurt-889337/
LOCATION:Alte Oper Frankfurt\, Opernplatz 1\, 60313 Frankfurt (Main)
END:VEVENT
END:VCALENDAR