BEGIN:VCALENDAR
VERSION:2.0
PRODID:concerti//https://www.concerti.de
CALSCALE:GREGORIAN
BEGIN:VTIMEZONE
TZID:Europe/Berlin
X-LIC-LOCATION:Europe/Berlin
BEGIN:DAYLIGHT
TZOFFSETFROM:+0100
TZOFFSETTO:+0200
TZNAME:CEST
DTSTART:19700329T020000
RRULE:FREQ=YEARLY;BYMONTH=3;BYDAY=-1SU
END:DAYLIGHT
BEGIN:STANDARD
TZOFFSETFROM:+0200
TZOFFSETTO:+0100
TZNAME:CET
DTSTART:19701025T030000
RRULE:FREQ=YEARLY;BYMONTH=10;BYDAY=-1SU
END:STANDARD
END:VTIMEZONE
BEGIN:VEVENT
UID:bd00dfe217cfcefb0e4436b087d8bae7
SUMMARY:Matteo Cimatti (Violine), Francesco Granata (Klavier)
URL:https://www.concerti.de/termine/matteo-cimatti-violine-francesco-granata-klavier-alte-oper-frankfurt-889334/
DTSTART;TZID=Europe/Berlin:20260920T150000
DTEND;TZID=Europe/Berlin:20260920T170000
DESCRIPTION:Interpreten: Matteo Cimatti (Violine)\, Francesco Granata (Klavier) \nProgramm: J. S. Bach/Cimatti: Gott\, dem der Erdenkreis zu klein BWV 9\, Schumann: Violinsonate Nr. 2 d-Moll op. 121\, Prokofjew: Violinsonate Nr. 2 D-Dur op. 94a \nhttps://www.concerti.de/termine/matteo-cimatti-violine-francesco-granata-klavier-alte-oper-frankfurt-889334/
LOCATION:Alte Oper Frankfurt\, Opernplatz 1\, 60313 Frankfurt (Main)
END:VEVENT
END:VCALENDAR