BEGIN:VCALENDAR
VERSION:2.0
PRODID:concerti//https://www.concerti.de
CALSCALE:GREGORIAN
BEGIN:VTIMEZONE
TZID:Europe/Berlin
X-LIC-LOCATION:Europe/Berlin
BEGIN:DAYLIGHT
TZOFFSETFROM:+0100
TZOFFSETTO:+0200
TZNAME:CEST
DTSTART:19700329T020000
RRULE:FREQ=YEARLY;BYMONTH=3;BYDAY=-1SU
END:DAYLIGHT
BEGIN:STANDARD
TZOFFSETFROM:+0200
TZOFFSETTO:+0100
TZNAME:CET
DTSTART:19701025T030000
RRULE:FREQ=YEARLY;BYMONTH=10;BYDAY=-1SU
END:STANDARD
END:VTIMEZONE
BEGIN:VEVENT
UID:1a9c7fe28e3d43d913097dd7ccd60a74
SUMMARY:Sem R. A. Wendt (Klarinette), Alexander Vornotsov (Klavier), Goran Stevanovich (Akkordeon), Treppenhausorchester, Thomas Posth (Leitung)
URL:https://www.concerti.de/termine/sem-r-a-wendt-klarinette-alexander-vornotsov-klavier-goran-stevanovich-akkordeon-treppenhausorchester-thomas-posth-leitung-alte-oper-frankfurt-889328/
DTSTART;TZID=Europe/Berlin:20260916T200000
DTEND;TZID=Europe/Berlin:20260916T220000
DESCRIPTION:Interpreten: Sem R. A. Wendt (Klarinette)\, Alexander Vornotsov (Klavier)\, Goran Stevanovich (Akkordeon)\, Treppenhausorchester\, Thomas Posth (Leitung) \nProgramm: Rimski-Korsakow: Scheherazade op. 35\, Kagel: Presto aus Schattenklänge\, Zorn: Roadrunner\, Mendelssohn: Adagio aus Streichquartett Nr. 6 f-Moll op. 80\, Clyne: Fractured Time \nhttps://www.concerti.de/termine/sem-r-a-wendt-klarinette-alexander-vornotsov-klavier-goran-stevanovich-akkordeon-treppenhausorchester-thomas-posth-leitung-alte-oper-frankfurt-889328/
LOCATION:Alte Oper Frankfurt\, Opernplatz 1\, 60313 Frankfurt (Main)
END:VEVENT
END:VCALENDAR