BEGIN:VCALENDAR
VERSION:2.0
PRODID:concerti//https://www.concerti.de
CALSCALE:GREGORIAN
BEGIN:VTIMEZONE
TZID:Europe/Berlin
X-LIC-LOCATION:Europe/Berlin
BEGIN:DAYLIGHT
TZOFFSETFROM:+0100
TZOFFSETTO:+0200
TZNAME:CEST
DTSTART:19700329T020000
RRULE:FREQ=YEARLY;BYMONTH=3;BYDAY=-1SU
END:DAYLIGHT
BEGIN:STANDARD
TZOFFSETFROM:+0200
TZOFFSETTO:+0100
TZNAME:CET
DTSTART:19701025T030000
RRULE:FREQ=YEARLY;BYMONTH=10;BYDAY=-1SU
END:STANDARD
END:VTIMEZONE
BEGIN:VEVENT
UID:c7db319e9d8640f0ee365ebd075872b1
SUMMARY:London Brass - Rheingau Musik Festival
URL:https://www.concerti.de/termine/london-brass-889305/
DTSTART;TZID=Europe/Berlin:20260731T193000
DTEND;TZID=Europe/Berlin:20260731T213000
DESCRIPTION:Interpreten: London Brass \nProgramm: Werke von Dowland\, Stanley\, The Beatles\, Queen u. a. \nhttps://www.concerti.de/termine/london-brass-889305/
LOCATION:Kloster Eberbach\, Eltville
END:VEVENT
END:VCALENDAR