BEGIN:VCALENDAR
VERSION:2.0
PRODID:concerti//https://www.concerti.de
CALSCALE:GREGORIAN
BEGIN:VTIMEZONE
TZID:Europe/Berlin
X-LIC-LOCATION:Europe/Berlin
BEGIN:DAYLIGHT
TZOFFSETFROM:+0100
TZOFFSETTO:+0200
TZNAME:CEST
DTSTART:19700329T020000
RRULE:FREQ=YEARLY;BYMONTH=3;BYDAY=-1SU
END:DAYLIGHT
BEGIN:STANDARD
TZOFFSETFROM:+0200
TZOFFSETTO:+0100
TZNAME:CET
DTSTART:19701025T030000
RRULE:FREQ=YEARLY;BYMONTH=10;BYDAY=-1SU
END:STANDARD
END:VTIMEZONE
BEGIN:VEVENT
UID:47b1b3581b1e8207a2f0c14cdd33d659
SUMMARY:Ilse Eerens (Sopran), Daniel Ochoa (Bariton), Windsbacher Knabenchor, Cantores Minores, Stuttgarter Philharmoniker, Ludwig Böhme (Leitung) - Rheingau Musik Festival
URL:https://www.concerti.de/termine/ilse-eerens-sopran-daniel-ochoa-bariton-windsbacher-knabenchor-cantores-minores-stuttgarter-philharmoniker-ludwig-boehme-leitung-889302/
DTSTART;TZID=Europe/Berlin:20260730T193000
DTEND;TZID=Europe/Berlin:20260730T213000
DESCRIPTION:Interpreten: Ilse Eerens (Sopran)\, Daniel Ochoa (Bariton)\, Windsbacher Knabenchor\, Cantores Minores\, Stuttgarter Philharmoniker\, Ludwig Böhme (Leitung) \nProgramm: Brahms: Motette op. 74/1 & Ein deutsches Requiem op. 45 \nhttps://www.concerti.de/termine/ilse-eerens-sopran-daniel-ochoa-bariton-windsbacher-knabenchor-cantores-minores-stuttgarter-philharmoniker-ludwig-boehme-leitung-889302/
LOCATION:Kloster Eberbach\, Eltville
END:VEVENT
END:VCALENDAR