BEGIN:VCALENDAR
VERSION:2.0
PRODID:concerti//https://www.concerti.de
CALSCALE:GREGORIAN
BEGIN:VTIMEZONE
TZID:Europe/Berlin
X-LIC-LOCATION:Europe/Berlin
BEGIN:DAYLIGHT
TZOFFSETFROM:+0100
TZOFFSETTO:+0200
TZNAME:CEST
DTSTART:19700329T020000
RRULE:FREQ=YEARLY;BYMONTH=3;BYDAY=-1SU
END:DAYLIGHT
BEGIN:STANDARD
TZOFFSETFROM:+0200
TZOFFSETTO:+0100
TZNAME:CET
DTSTART:19701025T030000
RRULE:FREQ=YEARLY;BYMONTH=10;BYDAY=-1SU
END:STANDARD
END:VTIMEZONE
BEGIN:VEVENT
UID:c849153d312c5d7518253a67de7bf1a6
SUMMARY:Barokksolistene, Bjarte Eike (Leitung) - Rheingau Musik Festival
URL:https://www.concerti.de/termine/barokksolistene-bjarte-eike-leitung-889293/
DTSTART;TZID=Europe/Berlin:20260729T193000
DTEND;TZID=Europe/Berlin:20260729T213000
DESCRIPTION:Interpreten: Barokksolistene\, Bjarte Eike (Leitung) \nhttps://www.concerti.de/termine/barokksolistene-bjarte-eike-leitung-889293/
LOCATION:Kloster Eberbach\, Eltville
END:VEVENT
END:VCALENDAR