BEGIN:VCALENDAR
VERSION:2.0
PRODID:concerti//https://www.concerti.de
CALSCALE:GREGORIAN
BEGIN:VTIMEZONE
TZID:Europe/Berlin
X-LIC-LOCATION:Europe/Berlin
BEGIN:DAYLIGHT
TZOFFSETFROM:+0100
TZOFFSETTO:+0200
TZNAME:CEST
DTSTART:19700329T020000
RRULE:FREQ=YEARLY;BYMONTH=3;BYDAY=-1SU
END:DAYLIGHT
BEGIN:STANDARD
TZOFFSETFROM:+0200
TZOFFSETTO:+0100
TZNAME:CET
DTSTART:19701025T030000
RRULE:FREQ=YEARLY;BYMONTH=10;BYDAY=-1SU
END:STANDARD
END:VTIMEZONE
BEGIN:VEVENT
UID:adb5a61eadea6a623e5bc383f41a2257
SUMMARY:Nils Landgren (trombone), Daniel Hope (violin), Jacques Ammon (piano), Stéphane Logerot (bass), Dimitri Monstein (drums) - Rheingau Musik Festival
URL:https://www.concerti.de/termine/nils-landgren-trombone-daniel-hope-violin-jacques-ammon-piano-stephane-logerot-bass-dimitri-monstein-drums-kurhaus-wiesbaden-889290/
DTSTART;TZID=Europe/Berlin:20260729T193000
DTEND;TZID=Europe/Berlin:20260729T213000
DESCRIPTION:Interpreten: Nils Landgren (trombone)\, Daniel Hope (violin)\, Jacques Ammon (piano)\, Stéphane Logerot (bass)\, Dimitri Monstein (drums) \nProgramm: Werke von Gershwin\, Sting\, Taylor\, Bernstein\, Landgren\, J. S. Bach u. a. \nhttps://www.concerti.de/termine/nils-landgren-trombone-daniel-hope-violin-jacques-ammon-piano-stephane-logerot-bass-dimitri-monstein-drums-kurhaus-wiesbaden-889290/
LOCATION:Kurhaus Wiesbaden\, Kurhausplatz 1\, 65189 Wiesbaden
END:VEVENT
END:VCALENDAR