BEGIN:VCALENDAR
VERSION:2.0
PRODID:concerti//https://www.concerti.de
CALSCALE:GREGORIAN
BEGIN:VTIMEZONE
TZID:Europe/Berlin
X-LIC-LOCATION:Europe/Berlin
BEGIN:DAYLIGHT
TZOFFSETFROM:+0100
TZOFFSETTO:+0200
TZNAME:CEST
DTSTART:19700329T020000
RRULE:FREQ=YEARLY;BYMONTH=3;BYDAY=-1SU
END:DAYLIGHT
BEGIN:STANDARD
TZOFFSETFROM:+0200
TZOFFSETTO:+0100
TZNAME:CET
DTSTART:19701025T030000
RRULE:FREQ=YEARLY;BYMONTH=10;BYDAY=-1SU
END:STANDARD
END:VTIMEZONE
BEGIN:VEVENT
UID:34a042c6d5911b7845c9cb74761bee43
SUMMARY:Lucienne Renaudin Vary (Trompete), Münchener Kammerorchester - Rheingau Musik Festival
URL:https://www.concerti.de/termine/lucienne-renaudin-vary-trompete-muenchener-kammerorchester-889268/
DTSTART;TZID=Europe/Berlin:20260722T193000
DTEND;TZID=Europe/Berlin:20260722T213000
DESCRIPTION:Interpreten: Lucienne Renaudin Vary (Trompete)\, Münchener Kammerorchester \nProgramm: Werke von Vivaldi\, Boccherini\, Cimarosa & Marcello \nhttps://www.concerti.de/termine/lucienne-renaudin-vary-trompete-muenchener-kammerorchester-889268/
LOCATION:Kloster Eberbach\, Eltville
END:VEVENT
END:VCALENDAR