BEGIN:VCALENDAR
VERSION:2.0
PRODID:concerti//https://www.concerti.de
CALSCALE:GREGORIAN
BEGIN:VTIMEZONE
TZID:Europe/Berlin
X-LIC-LOCATION:Europe/Berlin
BEGIN:DAYLIGHT
TZOFFSETFROM:+0100
TZOFFSETTO:+0200
TZNAME:CEST
DTSTART:19700329T020000
RRULE:FREQ=YEARLY;BYMONTH=3;BYDAY=-1SU
END:DAYLIGHT
BEGIN:STANDARD
TZOFFSETFROM:+0200
TZOFFSETTO:+0100
TZNAME:CET
DTSTART:19701025T030000
RRULE:FREQ=YEARLY;BYMONTH=10;BYDAY=-1SU
END:STANDARD
END:VTIMEZONE
BEGIN:VEVENT
UID:f4382592e45893cc29e4057e1dd1702c
SUMMARY:Lucas &amp; Arthur Jussen (Klavier) - Rheingau Musik Festival
URL:https://www.concerti.de/termine/lucas-arthur-jussen-klavier-schloss-johannisberg-889265/
DTSTART;TZID=Europe/Berlin:20260722T190000
DTEND;TZID=Europe/Berlin:20260722T210000
DESCRIPTION:Interpreten: Lucas & Arthur Jussen (Klavier) \nProgramm: Werke von Mozart\, Schumann\, Ravel\, Debussy & Rachmaninow \nhttps://www.concerti.de/termine/lucas-arthur-jussen-klavier-schloss-johannisberg-889265/
LOCATION:Schloss Johannisberg\, \, 65366 Geisenheim-Johannisberg
END:VEVENT
END:VCALENDAR