BEGIN:VCALENDAR
VERSION:2.0
PRODID:concerti//https://www.concerti.de
CALSCALE:GREGORIAN
BEGIN:VTIMEZONE
TZID:Europe/Berlin
X-LIC-LOCATION:Europe/Berlin
BEGIN:DAYLIGHT
TZOFFSETFROM:+0100
TZOFFSETTO:+0200
TZNAME:CEST
DTSTART:19700329T020000
RRULE:FREQ=YEARLY;BYMONTH=3;BYDAY=-1SU
END:DAYLIGHT
BEGIN:STANDARD
TZOFFSETFROM:+0200
TZOFFSETTO:+0100
TZNAME:CET
DTSTART:19701025T030000
RRULE:FREQ=YEARLY;BYMONTH=10;BYDAY=-1SU
END:STANDARD
END:VTIMEZONE
BEGIN:VEVENT
UID:368f4666da602191858fd39bcafab372
SUMMARY:100 Years of Disney - Rheingau Musik Festival
URL:https://www.concerti.de/termine/100-years-of-disney-kurhaus-wiesbaden-889262/
DTSTART;TZID=Europe/Berlin:20260719T190000
DTEND;TZID=Europe/Berlin:20260719T210000
DESCRIPTION:Interpreten: The King’s Singers\, Hofer Symphoniker\, Enrico Delamboye (Leitung) \nhttps://www.concerti.de/termine/100-years-of-disney-kurhaus-wiesbaden-889262/
LOCATION:Kurhaus Wiesbaden\, Kurhausplatz 1\, 65189 Wiesbaden
END:VEVENT
END:VCALENDAR