BEGIN:VCALENDAR
VERSION:2.0
PRODID:concerti//https://www.concerti.de
CALSCALE:GREGORIAN
BEGIN:VTIMEZONE
TZID:Europe/Berlin
X-LIC-LOCATION:Europe/Berlin
BEGIN:DAYLIGHT
TZOFFSETFROM:+0100
TZOFFSETTO:+0200
TZNAME:CEST
DTSTART:19700329T020000
RRULE:FREQ=YEARLY;BYMONTH=3;BYDAY=-1SU
END:DAYLIGHT
BEGIN:STANDARD
TZOFFSETFROM:+0200
TZOFFSETTO:+0100
TZNAME:CET
DTSTART:19701025T030000
RRULE:FREQ=YEARLY;BYMONTH=10;BYDAY=-1SU
END:STANDARD
END:VTIMEZONE
BEGIN:VEVENT
UID:1109957a7e3517886b50a874a8836b8c
SUMMARY:Beatles go Baroque - Rheingau Musik Festival
URL:https://www.concerti.de/termine/beatles-go-baroque-889254/
DTSTART;TZID=Europe/Berlin:20260717T193000
DTEND;TZID=Europe/Berlin:20260717T213000
DESCRIPTION:Interpreten: Juraj Cizmarovic (Violine)\, Alan Vizváry (Violine)\, Lukáš Polák (Violoncello)\, Hilaris Chamber Orchestra\, Peter Breiner (Cembalo & Leitung) \nProgramm: Werke von Händel\, J. S. Bach\, Vivaldi & The Beatles/Breiner \nhttps://www.concerti.de/termine/beatles-go-baroque-889254/
LOCATION:Kloster Eberbach\, Eltville
END:VEVENT
END:VCALENDAR