BEGIN:VCALENDAR
VERSION:2.0
PRODID:concerti//https://www.concerti.de
CALSCALE:GREGORIAN
BEGIN:VTIMEZONE
TZID:Europe/Berlin
X-LIC-LOCATION:Europe/Berlin
BEGIN:DAYLIGHT
TZOFFSETFROM:+0100
TZOFFSETTO:+0200
TZNAME:CEST
DTSTART:19700329T020000
RRULE:FREQ=YEARLY;BYMONTH=3;BYDAY=-1SU
END:DAYLIGHT
BEGIN:STANDARD
TZOFFSETFROM:+0200
TZOFFSETTO:+0100
TZNAME:CET
DTSTART:19701025T030000
RRULE:FREQ=YEARLY;BYMONTH=10;BYDAY=-1SU
END:STANDARD
END:VTIMEZONE
BEGIN:VEVENT
UID:f7ceb83de8637613bf295140d2966cb7
SUMMARY:Lucienne Renaudin Vary (Trompete), Félicien Brut (Akkordeon) - Rheingau Musik Festival
URL:https://www.concerti.de/termine/lucienne-renaudin-vary-trompete-felicien-brut-akkordeon-schloss-johannisberg-889239/
DTSTART;TZID=Europe/Berlin:20260712T190000
DTEND;TZID=Europe/Berlin:20260712T210000
DESCRIPTION:Interpreten: Lucienne Renaudin Vary (Trompete)\, Félicien Brut (Akkordeon) \nProgramm: Werke von Piazzolla\, Bernstein\, Piaf\, Waksman\, Legrand\, Höhne\, Méndez & Galliano \nhttps://www.concerti.de/termine/lucienne-renaudin-vary-trompete-felicien-brut-akkordeon-schloss-johannisberg-889239/
LOCATION:Schloss Johannisberg\, \, 65366 Geisenheim-Johannisberg
END:VEVENT
END:VCALENDAR