BEGIN:VCALENDAR
VERSION:2.0
PRODID:concerti//https://www.concerti.de
CALSCALE:GREGORIAN
BEGIN:VTIMEZONE
TZID:Europe/Berlin
X-LIC-LOCATION:Europe/Berlin
BEGIN:DAYLIGHT
TZOFFSETFROM:+0100
TZOFFSETTO:+0200
TZNAME:CEST
DTSTART:19700329T020000
RRULE:FREQ=YEARLY;BYMONTH=3;BYDAY=-1SU
END:DAYLIGHT
BEGIN:STANDARD
TZOFFSETFROM:+0200
TZOFFSETTO:+0100
TZNAME:CET
DTSTART:19701025T030000
RRULE:FREQ=YEARLY;BYMONTH=10;BYDAY=-1SU
END:STANDARD
END:VTIMEZONE
BEGIN:VEVENT
UID:66dbf183c39a2c0ce21f8741d83fdf2c
SUMMARY:Abel Selaocoe (vocals &amp; cello), Bantu Ensemble - Rheingau Musik Festival
URL:https://www.concerti.de/termine/abel-selaocoe-vocals-cello-bantu-ensemble-889233/
DTSTART;TZID=Europe/Berlin:20260711T190000
DTEND;TZID=Europe/Berlin:20260711T210000
DESCRIPTION:Interpreten: Abel Selaocoe (vocals & cello)\, Bantu Ensemble \nhttps://www.concerti.de/termine/abel-selaocoe-vocals-cello-bantu-ensemble-889233/
LOCATION:Schloss Vollrads\, Oestrich-Winkel
END:VEVENT
END:VCALENDAR