BEGIN:VCALENDAR
VERSION:2.0
PRODID:concerti//https://www.concerti.de
CALSCALE:GREGORIAN
BEGIN:VTIMEZONE
TZID:Europe/Berlin
X-LIC-LOCATION:Europe/Berlin
BEGIN:DAYLIGHT
TZOFFSETFROM:+0100
TZOFFSETTO:+0200
TZNAME:CEST
DTSTART:19700329T020000
RRULE:FREQ=YEARLY;BYMONTH=3;BYDAY=-1SU
END:DAYLIGHT
BEGIN:STANDARD
TZOFFSETFROM:+0200
TZOFFSETTO:+0100
TZNAME:CET
DTSTART:19701025T030000
RRULE:FREQ=YEARLY;BYMONTH=10;BYDAY=-1SU
END:STANDARD
END:VTIMEZONE
BEGIN:VEVENT
UID:c199c036dc4ef9e52a86bae9170d7024
SUMMARY:María Dueñas (Violine), Bamberger Symphoniker, Jakub Hrůša (Leitung) - Rheingau Musik Festival
URL:https://www.concerti.de/termine/maria-duenas-violine-bamberger-symphoniker-jakub-hrusa-leitung-kurhaus-wiesbaden-889230/
DTSTART;TZID=Europe/Berlin:20260711T190000
DTEND;TZID=Europe/Berlin:20260711T210000
DESCRIPTION:Interpreten: María Dueñas (Violine)\, Bamberger Symphoniker\, Jakub Hrůša (Leitung) \nProgramm: Brahms: Violinkonzert D-Dur op. 77 & Sinfonie Nr. 2 D-Dur op. 73 \nhttps://www.concerti.de/termine/maria-duenas-violine-bamberger-symphoniker-jakub-hrusa-leitung-kurhaus-wiesbaden-889230/
LOCATION:Kurhaus Wiesbaden\, Kurhausplatz 1\, 65189 Wiesbaden
END:VEVENT
END:VCALENDAR