BEGIN:VCALENDAR
VERSION:2.0
PRODID:concerti//https://www.concerti.de
CALSCALE:GREGORIAN
BEGIN:VTIMEZONE
TZID:Europe/Berlin
X-LIC-LOCATION:Europe/Berlin
BEGIN:DAYLIGHT
TZOFFSETFROM:+0100
TZOFFSETTO:+0200
TZNAME:CEST
DTSTART:19700329T020000
RRULE:FREQ=YEARLY;BYMONTH=3;BYDAY=-1SU
END:DAYLIGHT
BEGIN:STANDARD
TZOFFSETFROM:+0200
TZOFFSETTO:+0100
TZNAME:CET
DTSTART:19701025T030000
RRULE:FREQ=YEARLY;BYMONTH=10;BYDAY=-1SU
END:STANDARD
END:VTIMEZONE
BEGIN:VEVENT
UID:fdff82e374b4cd64584b6f98ec737823
SUMMARY:Carlos Ferreira (Klarinette), Württembergisches Kammerorchester Heilbronn - Rheingau Musik Festival
URL:https://www.concerti.de/termine/carlos-ferreira-klarinette-wuerttembergisches-kammerorchester-heilbronn-889215/
DTSTART;TZID=Europe/Berlin:20260709T193000
DTEND;TZID=Europe/Berlin:20260709T213000
DESCRIPTION:Interpreten: Carlos Ferreira (Klarinette)\, Württembergisches Kammerorchester Heilbronn \nProgramm: Werke von Verdi\, Puccini\, Rossini\, Gluck\, Wolf-Ferrari\, Pnchielli u. a. \nhttps://www.concerti.de/termine/carlos-ferreira-klarinette-wuerttembergisches-kammerorchester-heilbronn-889215/
LOCATION:Kloster Eberbach\, Eltville
END:VEVENT
END:VCALENDAR