BEGIN:VCALENDAR
VERSION:2.0
PRODID:concerti//https://www.concerti.de
CALSCALE:GREGORIAN
BEGIN:VTIMEZONE
TZID:Europe/Berlin
X-LIC-LOCATION:Europe/Berlin
BEGIN:DAYLIGHT
TZOFFSETFROM:+0100
TZOFFSETTO:+0200
TZNAME:CEST
DTSTART:19700329T020000
RRULE:FREQ=YEARLY;BYMONTH=3;BYDAY=-1SU
END:DAYLIGHT
BEGIN:STANDARD
TZOFFSETFROM:+0200
TZOFFSETTO:+0100
TZNAME:CET
DTSTART:19701025T030000
RRULE:FREQ=YEARLY;BYMONTH=10;BYDAY=-1SU
END:STANDARD
END:VTIMEZONE
BEGIN:VEVENT
UID:f9c6d4d8ad4f622f4d4552474f20fb60
SUMMARY:Matt Dusk (vocals), Band - Rheingau Musik Festival
URL:https://www.concerti.de/termine/matt-dusk-vocals-band-889200/
DTSTART;TZID=Europe/Berlin:20260708T190000
DTEND;TZID=Europe/Berlin:20260708T210000
DESCRIPTION:Interpreten: Matt Dusk (vocals)\, Band \nProgramm: Werke von Sinatra \nhttps://www.concerti.de/termine/matt-dusk-vocals-band-889200/
LOCATION:Schloss Vollrads\, Oestrich-Winkel
END:VEVENT
END:VCALENDAR