BEGIN:VCALENDAR
VERSION:2.0
PRODID:concerti//https://www.concerti.de
CALSCALE:GREGORIAN
BEGIN:VTIMEZONE
TZID:Europe/Berlin
X-LIC-LOCATION:Europe/Berlin
BEGIN:DAYLIGHT
TZOFFSETFROM:+0100
TZOFFSETTO:+0200
TZNAME:CEST
DTSTART:19700329T020000
RRULE:FREQ=YEARLY;BYMONTH=3;BYDAY=-1SU
END:DAYLIGHT
BEGIN:STANDARD
TZOFFSETFROM:+0200
TZOFFSETTO:+0100
TZNAME:CET
DTSTART:19701025T030000
RRULE:FREQ=YEARLY;BYMONTH=10;BYDAY=-1SU
END:STANDARD
END:VTIMEZONE
BEGIN:VEVENT
UID:1f6e8a43cbcf2885d378ef667a4037bc
SUMMARY:Fiery Scots Folk - Rheingau Musik Festival
URL:https://www.concerti.de/termine/fiery-scots-folk-889170/
DTSTART;TZID=Europe/Berlin:20260704T190000
DTEND;TZID=Europe/Berlin:20260704T210000
DESCRIPTION:Interpreten: Skelpt \nhttps://www.concerti.de/termine/fiery-scots-folk-889170/
LOCATION:Rettershof\, Kelkheim
END:VEVENT
END:VCALENDAR