BEGIN:VCALENDAR
VERSION:2.0
PRODID:concerti//https://www.concerti.de
CALSCALE:GREGORIAN
BEGIN:VTIMEZONE
TZID:Europe/Berlin
X-LIC-LOCATION:Europe/Berlin
BEGIN:DAYLIGHT
TZOFFSETFROM:+0100
TZOFFSETTO:+0200
TZNAME:CEST
DTSTART:19700329T020000
RRULE:FREQ=YEARLY;BYMONTH=3;BYDAY=-1SU
END:DAYLIGHT
BEGIN:STANDARD
TZOFFSETFROM:+0200
TZOFFSETTO:+0100
TZNAME:CET
DTSTART:19701025T030000
RRULE:FREQ=YEARLY;BYMONTH=10;BYDAY=-1SU
END:STANDARD
END:VTIMEZONE
BEGIN:VEVENT
UID:383128b371a25065ff8dd7c7a63e9672
SUMMARY:Grigory Sokolov (Klavier) - Rheingau Musik Festival
URL:https://www.concerti.de/termine/grigory-sokolov-klavier-kurhaus-wiesbaden-889167/
DTSTART;TZID=Europe/Berlin:20260703T193000
DTEND;TZID=Europe/Berlin:20260703T213000
DESCRIPTION:Interpreten: Grigory Sokolov (Klavier) \nProgramm: Beethoven: Klaviersonate Nr. 4 Es-Dur op. 7 & Sechs Bagatellen op. 126\, Schubert: Klaviersonate B-Dur D 960 \nhttps://www.concerti.de/termine/grigory-sokolov-klavier-kurhaus-wiesbaden-889167/
LOCATION:Kurhaus Wiesbaden\, Kurhausplatz 1\, 65189 Wiesbaden
END:VEVENT
END:VCALENDAR