BEGIN:VCALENDAR
VERSION:2.0
PRODID:concerti//https://www.concerti.de
CALSCALE:GREGORIAN
BEGIN:VTIMEZONE
TZID:Europe/Berlin
X-LIC-LOCATION:Europe/Berlin
BEGIN:DAYLIGHT
TZOFFSETFROM:+0100
TZOFFSETTO:+0200
TZNAME:CEST
DTSTART:19700329T020000
RRULE:FREQ=YEARLY;BYMONTH=3;BYDAY=-1SU
END:DAYLIGHT
BEGIN:STANDARD
TZOFFSETFROM:+0200
TZOFFSETTO:+0100
TZNAME:CET
DTSTART:19701025T030000
RRULE:FREQ=YEARLY;BYMONTH=10;BYDAY=-1SU
END:STANDARD
END:VTIMEZONE
BEGIN:VEVENT
UID:f426d7d168f779023300546528140763
SUMMARY:Trio Orelon - Rheingau Musik Festival
URL:https://www.concerti.de/termine/trio-orelon-schloss-johannisberg-889158/
DTSTART;TZID=Europe/Berlin:20260702T190000
DTEND;TZID=Europe/Berlin:20260702T210000
DESCRIPTION:Interpreten: Trio Orelon \nProgramm: Grieg: Klaviertrio c-Moll (Auszüge)\, Röntgen-Maier: Klaviertrio Es-Dur\, Brahms: Klaviertrio Nr. 1 H-Dur op. 8 \nhttps://www.concerti.de/termine/trio-orelon-schloss-johannisberg-889158/
LOCATION:Schloss Johannisberg\, \, 65366 Geisenheim-Johannisberg
END:VEVENT
END:VCALENDAR