BEGIN:VCALENDAR
VERSION:2.0
PRODID:concerti//https://www.concerti.de
CALSCALE:GREGORIAN
BEGIN:VTIMEZONE
TZID:Europe/Berlin
X-LIC-LOCATION:Europe/Berlin
BEGIN:DAYLIGHT
TZOFFSETFROM:+0100
TZOFFSETTO:+0200
TZNAME:CEST
DTSTART:19700329T020000
RRULE:FREQ=YEARLY;BYMONTH=3;BYDAY=-1SU
END:DAYLIGHT
BEGIN:STANDARD
TZOFFSETFROM:+0200
TZOFFSETTO:+0100
TZNAME:CET
DTSTART:19701025T030000
RRULE:FREQ=YEARLY;BYMONTH=10;BYDAY=-1SU
END:STANDARD
END:VTIMEZONE
BEGIN:VEVENT
UID:1c8ae79f2aba258ecd4412a902b63ba5
SUMMARY:Thomas Dunford (Laute) - Rheingau Musik Festival
URL:https://www.concerti.de/termine/thomas-dunford-laute-889152/
DTSTART;TZID=Europe/Berlin:20260628T170000
DTEND;TZID=Europe/Berlin:20260628T190000
DESCRIPTION:Interpreten: Thomas Dunford (Laute) \nProgramm: Werke von Dowland & The Beatles \nhttps://www.concerti.de/termine/thomas-dunford-laute-889152/
LOCATION:Kloster Eberbach\, Eltville
END:VEVENT
END:VCALENDAR