BEGIN:VCALENDAR
VERSION:2.0
PRODID:concerti//https://www.concerti.de
CALSCALE:GREGORIAN
BEGIN:VTIMEZONE
TZID:Europe/Berlin
X-LIC-LOCATION:Europe/Berlin
BEGIN:DAYLIGHT
TZOFFSETFROM:+0100
TZOFFSETTO:+0200
TZNAME:CEST
DTSTART:19700329T020000
RRULE:FREQ=YEARLY;BYMONTH=3;BYDAY=-1SU
END:DAYLIGHT
BEGIN:STANDARD
TZOFFSETFROM:+0200
TZOFFSETTO:+0100
TZNAME:CET
DTSTART:19701025T030000
RRULE:FREQ=YEARLY;BYMONTH=10;BYDAY=-1SU
END:STANDARD
END:VTIMEZONE
BEGIN:VEVENT
UID:044ed3d3df3eb9b55feaa321a95f5fd8
SUMMARY:Tanz mal mit der Maus - Rheingau Musik Festival
URL:https://www.concerti.de/termine/tanz-mal-mit-der-maus-kurhaus-wiesbaden-889149/
DTSTART;TZID=Europe/Berlin:20260628T150000
DTEND;TZID=Europe/Berlin:20260628T170000
DESCRIPTION:Interpreten: WDR Funkhausorchester\, David Brophy (Leitung)\, André Gatzke (Moderation)\, Nina Heuser (Moderation) \nhttps://www.concerti.de/termine/tanz-mal-mit-der-maus-kurhaus-wiesbaden-889149/
LOCATION:Kurhaus Wiesbaden\, Kurhausplatz 1\, 65189 Wiesbaden
END:VEVENT
END:VCALENDAR