BEGIN:VCALENDAR
VERSION:2.0
PRODID:concerti//https://www.concerti.de
CALSCALE:GREGORIAN
BEGIN:VTIMEZONE
TZID:Europe/Berlin
X-LIC-LOCATION:Europe/Berlin
BEGIN:DAYLIGHT
TZOFFSETFROM:+0100
TZOFFSETTO:+0200
TZNAME:CEST
DTSTART:19700329T020000
RRULE:FREQ=YEARLY;BYMONTH=3;BYDAY=-1SU
END:DAYLIGHT
BEGIN:STANDARD
TZOFFSETFROM:+0200
TZOFFSETTO:+0100
TZNAME:CET
DTSTART:19701025T030000
RRULE:FREQ=YEARLY;BYMONTH=10;BYDAY=-1SU
END:STANDARD
END:VTIMEZONE
BEGIN:VEVENT
UID:e30c5388b7a212e10e3c8665dd406681
SUMMARY:VOCES8, Kammerchor der Hochschule für Musik und Darstellende Kunst Frankfurt, Cappella Academica Frankfurt, Barnaby Smith (Leitung), Florian Lohmann (Leitung) - Rheingau Musik Festival
URL:https://www.concerti.de/termine/voces8-kammerchor-der-hochschule-fuer-musik-und-darstellende-kunst-frankfurt-cappella-academica-frankfurt-barnaby-smith-leitung-florian-lohmann-leitung-889128/
DTSTART;TZID=Europe/Berlin:20260624T193000
DTEND;TZID=Europe/Berlin:20260624T213000
DESCRIPTION:Interpreten: VOCES8\, Kammerchor der Hochschule für Musik und Darstellende Kunst Frankfurt\, Cappella Academica Frankfurt\, Barnaby Smith (Leitung)\, Florian Lohmann (Leitung) \nProgramm: Purcell: Ode for St. Cecilia’s Day 1683 „Welcome to all the pleasures“\, Ode for St. Cecilia’s Day 1692 „Hail! Bright Cecilia“ & „My heart is inditing“\, Britten: Hymn to St. Cecilia op. 27 \nhttps://www.concerti.de/termine/voces8-kammerchor-der-hochschule-fuer-musik-und-darstellende-kunst-frankfurt-cappella-academica-frankfurt-barnaby-smith-leitung-florian-lohmann-leitung-889128/
LOCATION:Kloster Eberbach\, Eltville
END:VEVENT
END:VCALENDAR