BEGIN:VCALENDAR
VERSION:2.0
PRODID:concerti//https://www.concerti.de
CALSCALE:GREGORIAN
BEGIN:VTIMEZONE
TZID:Europe/Berlin
X-LIC-LOCATION:Europe/Berlin
BEGIN:DAYLIGHT
TZOFFSETFROM:+0100
TZOFFSETTO:+0200
TZNAME:CEST
DTSTART:19700329T020000
RRULE:FREQ=YEARLY;BYMONTH=3;BYDAY=-1SU
END:DAYLIGHT
BEGIN:STANDARD
TZOFFSETFROM:+0200
TZOFFSETTO:+0100
TZNAME:CET
DTSTART:19701025T030000
RRULE:FREQ=YEARLY;BYMONTH=10;BYDAY=-1SU
END:STANDARD
END:VTIMEZONE
BEGIN:VEVENT
UID:5194681588de10c8cbb7d73355172705
SUMMARY:Radek Baborák (Horn), Dominic Molnar (Horn), Brandenburgisches Staatsorchester Frankfurt, Radek Baborák (Leitung)
URL:https://www.concerti.de/termine/radek-baborak-horn-dominic-molnar-horn-brandenburgisches-staatsorchester-frankfurt-radek-baborak-leitung-791245/
DTSTART;TZID=Europe/Berlin:20260628T110000
DTEND;TZID=Europe/Berlin:20260628T130000
DESCRIPTION:Interpreten: Radek Baborák (Horn)\, Dominic Molnar (Horn)\, Brandenburgisches Staatsorchester Frankfurt\, Radek Baborák (Leitung) \nProgramm: Koželuh: Sinfonie g-Moll op. 22/3\, Rosetti: Hornkonzert Es-Dur Kaul III:53\, Mozart: Hornkonzert Nr. 1 D-Dur KV 412\, Weber: Sinfonie Nr. 2 C-Dur J 51 \nhttps://www.concerti.de/termine/radek-baborak-horn-dominic-molnar-horn-brandenburgisches-staatsorchester-frankfurt-radek-baborak-leitung-791245/
LOCATION:Messehalle 4\, Frankfurt (Oder)
END:VEVENT
END:VCALENDAR