BEGIN:VCALENDAR
VERSION:2.0
PRODID:concerti//https://www.concerti.de
CALSCALE:GREGORIAN
BEGIN:VTIMEZONE
TZID:Europe/Berlin
X-LIC-LOCATION:Europe/Berlin
BEGIN:DAYLIGHT
TZOFFSETFROM:+0100
TZOFFSETTO:+0200
TZNAME:CEST
DTSTART:19700329T020000
RRULE:FREQ=YEARLY;BYMONTH=3;BYDAY=-1SU
END:DAYLIGHT
BEGIN:STANDARD
TZOFFSETFROM:+0200
TZOFFSETTO:+0100
TZNAME:CET
DTSTART:19701025T030000
RRULE:FREQ=YEARLY;BYMONTH=10;BYDAY=-1SU
END:STANDARD
END:VTIMEZONE
BEGIN:VEVENT
UID:10c86243c5be6bf3c5d65114de9c07c0
SUMMARY:Ensemble der Wiener Philharmoniker - Musikverein Festival: Beethovens Spazierstock
URL:https://www.concerti.de/termine/ensemble-der-wiener-philharmoniker-wiener-musikverein-685225/
DTSTART;TZID=Europe/Berlin:20270214T193000
DTEND;TZID=Europe/Berlin:20270214T213000
DESCRIPTION:Interpreten: Ensemble der Wiener Philharmoniker \nProgramm: Bax: Quintett für Streicher & Harfe\, Françaix: Quintett für Flöte\, Harfe & Streichtrio\, Rota: Musik aus „Der Pate“ & Der Widerspenstigen Zähmung“\, Caplet: Conte fantastique\, Ravel: Introduction et Allegro \nhttps://www.concerti.de/termine/ensemble-der-wiener-philharmoniker-wiener-musikverein-685225/
LOCATION:Wiener Musikverein\, Musikvereinspl. 1\, 1010 Wien
END:VEVENT
END:VCALENDAR