BEGIN:VCALENDAR
VERSION:2.0
PRODID:concerti//https://www.concerti.de
CALSCALE:GREGORIAN
BEGIN:VTIMEZONE
TZID:Europe/Berlin
X-LIC-LOCATION:Europe/Berlin
BEGIN:DAYLIGHT
TZOFFSETFROM:+0100
TZOFFSETTO:+0200
TZNAME:CEST
DTSTART:19700329T020000
RRULE:FREQ=YEARLY;BYMONTH=3;BYDAY=-1SU
END:DAYLIGHT
BEGIN:STANDARD
TZOFFSETFROM:+0200
TZOFFSETTO:+0100
TZNAME:CET
DTSTART:19701025T030000
RRULE:FREQ=YEARLY;BYMONTH=10;BYDAY=-1SU
END:STANDARD
END:VTIMEZONE
BEGIN:VEVENT
UID:41184018e078f7149fc6a556282dc5f2
SUMMARY:Rossini: La Cenerentola
URL:https://www.concerti.de/termine/rossini-la-cenerentola-staatstheater-mainz-788571/
DTSTART;TZID=Europe/Berlin:20260510T180000
DTEND;TZID=Europe/Berlin:20260510T200000
DESCRIPTION:Gioachino Rossinis „La Cenerentola“ entführt ins Märchenreich des Aschenputtels – aber ohne Glitzer und Zauberkugel\, dafür mit überschäumender musikalischer Fantasie. Angelina\, von Stiefvater Don Magnifico und dessen Töchtern unterdrückt\, träumt von Liebe und Freiheit. Als der Prinz heimlich als Diener verkleidet erscheint\, nimmt die turbulente Handlung Fahrt auf: Verwechslungen\, kleine Listenspiele und herzerwärmende Begegnungen führen Schritt für Schritt zu einem glücklichen Ende. Rossini kombiniert farbenfrohe Koloraturen\, innige Kantilenen und quirlige Ensembles. Die Oper verlangt Sängern höchste Virtuosität\, trotz ihrer komödiantischen Leichtigkeit. \nInterpreten: Mark Watson Williams (Don Ramiro)\, Karina Repova (Angelina)\, Gabriel Rollinson (Dandini)\, Vincenzo Nizzardo (Don Magnifico)\, Alexandra Samouilidou (Clorinda)\, Samuel Hogarth (Leitung)\, Stephanie Kuhlmann (Regie)\, Mark Watson Williams (Don Ramiro)\, Verena Tönjes (Angelina)\, Gabriel Rollinson (Dandini)\, Vincenzo Nizzardo (Don Magnifico)\, Alexandra Samouilidou (Clorinda)\, Samuel Hogarth (Leitung)\, Stephanie Kuhlmann (Regie) \nhttps://www.concerti.de/termine/rossini-la-cenerentola-staatstheater-mainz-788571/
LOCATION:Staatstheater Mainz\, Gutenbergplatz 7\, 55116 Mainz
END:VEVENT
END:VCALENDAR