BEGIN:VCALENDAR
VERSION:2.0
PRODID:concerti//https://www.concerti.de
CALSCALE:GREGORIAN
BEGIN:VTIMEZONE
TZID:Europe/Berlin
X-LIC-LOCATION:Europe/Berlin
BEGIN:DAYLIGHT
TZOFFSETFROM:+0100
TZOFFSETTO:+0200
TZNAME:CEST
DTSTART:19700329T020000
RRULE:FREQ=YEARLY;BYMONTH=3;BYDAY=-1SU
END:DAYLIGHT
BEGIN:STANDARD
TZOFFSETFROM:+0200
TZOFFSETTO:+0100
TZNAME:CET
DTSTART:19701025T030000
RRULE:FREQ=YEARLY;BYMONTH=10;BYDAY=-1SU
END:STANDARD
END:VTIMEZONE
BEGIN:VEVENT
UID:8050c2ad7a928c36e72c6681e5db4844
SUMMARY:Kadri-Ann Sumera (Klavier) - Internationales Musikfest Goslar
URL:https://www.concerti.de/termine/ann-kadri-sumera-klavier-866761/
DTSTART;TZID=Europe/Berlin:20260510T170000
DTEND;TZID=Europe/Berlin:20260510T190000
DESCRIPTION:Interpreten: Kadri-Ann Sumera (Klavier) \nProgramm: Mägi: Alte Kantele\, Tobias: Sonatine op. 12 c-Moll\, Liszt: Sonetto 123 del Petrarca\, Eller: Ballade cis-Moll\, Saar: 28 Preludes (Auszüge)\, Schumann: Kreisleriana op. 16 \nhttps://www.concerti.de/termine/ann-kadri-sumera-klavier-866761/
LOCATION:Mönchehaus Museum\, Goslar
END:VEVENT
END:VCALENDAR