BEGIN:VCALENDAR
VERSION:2.0
PRODID:concerti//https://www.concerti.de
CALSCALE:GREGORIAN
BEGIN:VTIMEZONE
TZID:Europe/Berlin
X-LIC-LOCATION:Europe/Berlin
BEGIN:DAYLIGHT
TZOFFSETFROM:+0100
TZOFFSETTO:+0200
TZNAME:CEST
DTSTART:19700329T020000
RRULE:FREQ=YEARLY;BYMONTH=3;BYDAY=-1SU
END:DAYLIGHT
BEGIN:STANDARD
TZOFFSETFROM:+0200
TZOFFSETTO:+0100
TZNAME:CET
DTSTART:19701025T030000
RRULE:FREQ=YEARLY;BYMONTH=10;BYDAY=-1SU
END:STANDARD
END:VTIMEZONE
BEGIN:VEVENT
UID:43bc0db72f8b91ff2af4aa59a333ca32
SUMMARY:Jeremias Luther (Violoncello), Holzkirchner Symphoniker, Andreas Ruppert (Leitung)
URL:https://www.concerti.de/termine/jeremias-luther-violoncello-holzkirchner-symphoniker-andreas-ruppert-leitung-866419/
DTSTART;TZID=Europe/Berlin:20260509T200000
DTEND;TZID=Europe/Berlin:20260509T220000
DESCRIPTION:Interpreten: Jeremias Luther (Violoncello)\, Holzkirchner Symphoniker\, Andreas Ruppert (Leitung) \nProgramm: Mozart: Ouvertüre zu „Idomeneo“ KV 366 & Sinfonie Nr. 41 C-Dur KV 551 „Jupiter“\, Dvořák: Cellokonzert h-Moll op. 104 \nhttps://www.concerti.de/termine/jeremias-luther-violoncello-holzkirchner-symphoniker-andreas-ruppert-leitung-866419/
LOCATION:Kultur im Oberbräu\, Holzkirchen
END:VEVENT
END:VCALENDAR