BEGIN:VCALENDAR
VERSION:2.0
PRODID:concerti//https://www.concerti.de
CALSCALE:GREGORIAN
BEGIN:VTIMEZONE
TZID:Europe/Berlin
X-LIC-LOCATION:Europe/Berlin
BEGIN:DAYLIGHT
TZOFFSETFROM:+0100
TZOFFSETTO:+0200
TZNAME:CEST
DTSTART:19700329T020000
RRULE:FREQ=YEARLY;BYMONTH=3;BYDAY=-1SU
END:DAYLIGHT
BEGIN:STANDARD
TZOFFSETFROM:+0200
TZOFFSETTO:+0100
TZNAME:CET
DTSTART:19701025T030000
RRULE:FREQ=YEARLY;BYMONTH=10;BYDAY=-1SU
END:STANDARD
END:VTIMEZONE
BEGIN:VEVENT
UID:8270c807c82f33aee2dcffdc8fe35ca4
SUMMARY:von Harmoniemusik zum Klavierquintett - Tastenträume Festival
URL:https://www.concerti.de/termine/von-harmoniemusik-zum-klavierquintett-865811/
DTSTART;TZID=Europe/Berlin:20260913T170000
DTEND;TZID=Europe/Berlin:20260913T190000
DESCRIPTION:Interpreten: Philipp Mahrenholz (Oboe)\, Robert Pickup (Klarinette)\, Gabriele Gombi (Fagott)\, Antonio Lagares (Naturhorn)\, Leonardo Miucci (Fortepiano) \nhttps://www.concerti.de/termine/von-harmoniemusik-zum-klavierquintett-865811/
LOCATION:Reformierte Kirche\, Zollikofen
END:VEVENT
END:VCALENDAR