BEGIN:VCALENDAR
VERSION:2.0
PRODID:concerti//https://www.concerti.de
CALSCALE:GREGORIAN
BEGIN:VTIMEZONE
TZID:Europe/Berlin
X-LIC-LOCATION:Europe/Berlin
BEGIN:DAYLIGHT
TZOFFSETFROM:+0100
TZOFFSETTO:+0200
TZNAME:CEST
DTSTART:19700329T020000
RRULE:FREQ=YEARLY;BYMONTH=3;BYDAY=-1SU
END:DAYLIGHT
BEGIN:STANDARD
TZOFFSETFROM:+0200
TZOFFSETTO:+0100
TZNAME:CET
DTSTART:19701025T030000
RRULE:FREQ=YEARLY;BYMONTH=10;BYDAY=-1SU
END:STANDARD
END:VTIMEZONE
BEGIN:VEVENT
UID:d0240e2dd28caa592f73e5cfa01bbdcf
SUMMARY:Solisten der Banda Storica, Gesangsstudierende &amp; Bläserensemble der HKB - Berner Seefestspiele
URL:https://www.concerti.de/termine/solisten-der-banda-storica-gesangsstudierende-blaeserensemble-der-hkb-865752/
DTSTART;TZID=Europe/Berlin:20260610T180000
DTEND;TZID=Europe/Berlin:20260610T200000
DESCRIPTION:Interpreten: Solisten der Banda Storica\, Gesangsstudierende & Bläserensemble der HKB \nProgramm: J. C. Bach: Bläsersinfonie Nr. 3 Es-Dur\, Mozart: Sechs Notturni für 3 Bassetthörner & 3 Singstimmen\, Krommer: Partita B-Dur op. 45/3 \nhttps://www.concerti.de/termine/solisten-der-banda-storica-gesangsstudierende-blaeserensemble-der-hkb-865752/
LOCATION:Pavillon Restaurant Schöngrün\, Bern
END:VEVENT
END:VCALENDAR