BEGIN:VCALENDAR
VERSION:2.0
PRODID:concerti//https://www.concerti.de
CALSCALE:GREGORIAN
BEGIN:VTIMEZONE
TZID:Europe/Berlin
X-LIC-LOCATION:Europe/Berlin
BEGIN:DAYLIGHT
TZOFFSETFROM:+0100
TZOFFSETTO:+0200
TZNAME:CEST
DTSTART:19700329T020000
RRULE:FREQ=YEARLY;BYMONTH=3;BYDAY=-1SU
END:DAYLIGHT
BEGIN:STANDARD
TZOFFSETFROM:+0200
TZOFFSETTO:+0100
TZNAME:CET
DTSTART:19701025T030000
RRULE:FREQ=YEARLY;BYMONTH=10;BYDAY=-1SU
END:STANDARD
END:VTIMEZONE
BEGIN:VEVENT
UID:2ccf4f9fc5ac11049bd962d05d8d842b
SUMMARY:Oscar Bohórquez (Violine), Frank Braley (Klavier)
URL:https://www.concerti.de/termine/oscar-bohorquez-violine-frank-braley-klavier-august-everding-saal-865676/
DTSTART;TZID=Europe/Berlin:20261112T193000
DTEND;TZID=Europe/Berlin:20261112T213000
DESCRIPTION:Interpreten: Oscar Bohórquez (Violine)\, Frank Braley (Klavier) \nhttps://www.concerti.de/termine/oscar-bohorquez-violine-frank-braley-klavier-august-everding-saal-865676/
LOCATION:August Everding Saal\, Ebertstr. 1\, 82031 Grünwald
END:VEVENT
END:VCALENDAR