BEGIN:VCALENDAR
VERSION:2.0
PRODID:concerti//https://www.concerti.de
CALSCALE:GREGORIAN
BEGIN:VTIMEZONE
TZID:Europe/Berlin
X-LIC-LOCATION:Europe/Berlin
BEGIN:DAYLIGHT
TZOFFSETFROM:+0100
TZOFFSETTO:+0200
TZNAME:CEST
DTSTART:19700329T020000
RRULE:FREQ=YEARLY;BYMONTH=3;BYDAY=-1SU
END:DAYLIGHT
BEGIN:STANDARD
TZOFFSETFROM:+0200
TZOFFSETTO:+0100
TZNAME:CET
DTSTART:19701025T030000
RRULE:FREQ=YEARLY;BYMONTH=10;BYDAY=-1SU
END:STANDARD
END:VTIMEZONE
BEGIN:VEVENT
UID:a09733400cc6b839374460cb254716c9
SUMMARY:Janina Mae Dettenborn (Sopran), Christopher B. Fischer (Tenor), Lautten Compagney Berlin, Wolfgang Katschner (Leitung), Birgit Schnurpfeil (Regie) - Sommerfestival Liebhabertheater Schloss Kochberg
URL:https://www.concerti.de/termine/janina-mae-dettenborn-sopran-christopher-b-fischer-tenor-lautten-compagney-berlin-wolfgang-katschner-leitung-birgit-schnurpfeil-regie-liebhabertheater-schloss-kochberg-865638/
DTSTART;TZID=Europe/Berlin:20260919T170000
DTEND;TZID=Europe/Berlin:20260919T190000
DESCRIPTION:Interpreten: Janina Mae Dettenborn (Sopran)\, Christopher B. Fischer (Tenor)\, Lautten Compagney Berlin\, Wolfgang Katschner (Leitung)\, Birgit Schnurpfeil (Regie) \nProgramm: Werke von Rameau\, Telemann\, Haydn\, A. Benda\, F. Benda\, Mendelssohn\, Hiller\, Rosetti\, Wolf\, Weber\, Eberwein\, Anna Amalia & Methfessel \nhttps://www.concerti.de/termine/janina-mae-dettenborn-sopran-christopher-b-fischer-tenor-lautten-compagney-berlin-wolfgang-katschner-leitung-birgit-schnurpfeil-regie-liebhabertheater-schloss-kochberg-865638/
LOCATION:Liebhabertheater Schloss Kochberg\, Schloss Kochberg\, 07407 Großkochberg
END:VEVENT
END:VCALENDAR