BEGIN:VCALENDAR
VERSION:2.0
PRODID:concerti//https://www.concerti.de
CALSCALE:GREGORIAN
BEGIN:VTIMEZONE
TZID:Europe/Berlin
X-LIC-LOCATION:Europe/Berlin
BEGIN:DAYLIGHT
TZOFFSETFROM:+0100
TZOFFSETTO:+0200
TZNAME:CEST
DTSTART:19700329T020000
RRULE:FREQ=YEARLY;BYMONTH=3;BYDAY=-1SU
END:DAYLIGHT
BEGIN:STANDARD
TZOFFSETFROM:+0200
TZOFFSETTO:+0100
TZNAME:CET
DTSTART:19701025T030000
RRULE:FREQ=YEARLY;BYMONTH=10;BYDAY=-1SU
END:STANDARD
END:VTIMEZONE
BEGIN:VEVENT
UID:c413e9244b29b9fb05dd49526abc6c5d
SUMMARY:Rrrrrr… - Voiceday
URL:https://www.concerti.de/termine/rrrrrr-hochschule-fuer-musik-hanns-eisler-berlin-865591/
DTSTART;TZID=Europe/Berlin:20260516T163000
DTEND;TZID=Europe/Berlin:20260516T183000
DESCRIPTION:Interpreten: Studierende und Lehrende der Hochschule für Musik „Hanns Eisler“ Berlin\, Anna Korondi (Leitung)\, Martin Schneuing (Leitung) \nProgramm: Werke von Szeghy\, Kagel\, Firsova\, Seither & Kurtág \nhttps://www.concerti.de/termine/rrrrrr-hochschule-fuer-musik-hanns-eisler-berlin-865591/
LOCATION:Hochschule für Musik „Hanns Eisler“ Berlin\, Schlossplatz 7\, 10178 Berlin
END:VEVENT
END:VCALENDAR